BEGIN:VCALENDAR
VERSION:2.0
PRODID:-//AED - ECPv6.15.20//NONSGML v1.0//EN
CALSCALE:GREGORIAN
METHOD:PUBLISH
X-WR-CALNAME:AED
X-ORIGINAL-URL:https://artseveryday.org
X-WR-CALDESC:Events for AED
REFRESH-INTERVAL;VALUE=DURATION:PT1H
X-Robots-Tag:noindex
X-PUBLISHED-TTL:PT1H
BEGIN:VTIMEZONE
TZID:UTC
BEGIN:STANDARD
TZOFFSETFROM:+0000
TZOFFSETTO:+0000
TZNAME:UTC
DTSTART:20210101T000000
END:STANDARD
END:VTIMEZONE
BEGIN:VEVENT
DTSTART;TZID=UTC:20260226T170000
DTEND;TZID=UTC:20260226T190000
DTSTAMP:20260425T013233
CREATED:20260127T153251Z
LAST-MODIFIED:20260127T153443Z
UID:123391-1772125200-1772132400@artseveryday.org
SUMMARY:BAIP Website Launch Party
DESCRIPTION:Celebrate the launch of our Baltimore Arts Integration Project Online Resource Library! There will be raffle prizes\, recognition of our incredible cohort and partners\, and food & drinks! \nJoin Arts Every Day as we celebrate the official launch of our new digital library\, created by Baltimore teachers and artists\, for Baltimore teachers. This resource hub features our growing collection of arts integration strategies\, classroom-ready activities\, and lesson supports that directly pair with Baltimore City curriculum\, along with “How-To” videos to support facilitation and implementation. \nWe’ll celebrate the collective work and creativity of everyone who helped bring these resources to life\, enjoy raffle prizes\, and share food and drinks. Come celebrate with us\, explore the library\, and help spread the word about these powerful\, locally made tools for educators!
URL:https://artseveryday.org/event/baip-website-launch-party/
LOCATION:Baltimore Unity Hall\, 1505 Eutaw Place\, Baltimore\, 21217\, United States
CATEGORIES:Arts & Culture Partners,Arts Advocacy,Arts Education,Arts Integration,Baltimore City Public Schools,Teacher Professional Development
ATTACH;FMTTYPE=image/jpeg:https://artseveryday.org/wp-content/uploads/BAIP-Launch-Party-Eventbrite-2160-x-1080-px.jpg
ORGANIZER;CN="Arts Every Day":MAILTO:info@artseveryday.org
END:VEVENT
BEGIN:VEVENT
DTSTART;TZID=UTC:20260211T160000
DTEND;TZID=UTC:20260211T190000
DTSTAMP:20260425T013233
CREATED:20260111T040013Z
LAST-MODIFIED:20260205T191541Z
UID:123385-1770825600-1770836400@artseveryday.org
SUMMARY:10X10 Exhibit Opening Reception
DESCRIPTION: Reflections is more than an exhibit- it’s a window into how Baltimore City students see themselves and the world around them. Join us for the 10X10 Exhibit: Reflections Opening Reception and celebrate 10 years of student creativity\, talent\, and voices on Wednesday\, February 11th from 4-7pm at Baltimore Unity Hall\, 1505 Eutaw Place. Free & open to all!
URL:https://artseveryday.org/event/10x10-exhibit-opening-reception-2/
CATEGORIES:Arts Advocacy,Arts Education,Baltimore City Public Schools
ATTACH;FMTTYPE=image/png:https://artseveryday.org/wp-content/uploads/10X10-Logo-2026-1.png
ORGANIZER;CN="Arts Every Day":MAILTO:info@artseveryday.org
END:VEVENT
BEGIN:VEVENT
DTSTART;TZID=UTC:20251119T180000
DTEND;TZID=UTC:20251119T193000
DTSTAMP:20260425T013233
CREATED:20251003T154606Z
LAST-MODIFIED:20251113T215127Z
UID:117405-1763575200-1763580600@artseveryday.org
SUMMARY:Arts Education Town Hall
DESCRIPTION:Educators\, Parents\, Students\, and Community Members! Please join us for a Town Hall event November 19\, 2025 at 6pm at Baltimore Unity Hall (1505 Eutaw Place) focused on arts education in Baltimore City Public Schools. Get the latest updates about Baltimore City’s Fine Arts Strategic Plan and see what access ti arts education looks like across the district with Baltimore City Public Schools CEO- Dr. Santelises\, plus hear testimonies from Parents\, Students\, and BCPSS Alums. \n 
URL:https://artseveryday.org/event/arts-education-town-hall-3/
LOCATION:Baltimore Unity Hall\, 1505 Eutaw Place\, Baltimore\, 21217\, United States
CATEGORIES:Arts & Culture Partners,Arts Advocacy,Arts Education,Baltimore City Public Schools,Public Forum
ATTACH;FMTTYPE=image/jpeg:https://artseveryday.org/wp-content/uploads/Town-Hall-RSVP-2025-1-scaled.jpg
ORGANIZER;CN="Arts Every Day":MAILTO:info@artseveryday.org
END:VEVENT
BEGIN:VEVENT
DTSTART;TZID=UTC:20251106T020000
DTEND;TZID=UTC:20251106T160000
DTSTAMP:20260425T013233
CREATED:20251003T173722Z
LAST-MODIFIED:20251003T173722Z
UID:117415-1762394400-1762444800@artseveryday.org
SUMMARY:Arts & Culture Partners Fall Convening
DESCRIPTION:On November 6th from 2-4pm\, we will gather at Baltimore Unity Hall to share the data collected from our SY24/25 Arts and Cultural Partners Landscape Survey. A Happy Hour Arts Educators Mixer hosted by the District’s Fine Arts Office will be held at Stem & Vine from 5-7 PM. This is a great opportunity for partners to meet Baltimore City Schools arts educators! 
URL:https://artseveryday.org/event/arts-culture-partners-fall-convening/
LOCATION:Baltimore Unity Hall\, 1505 Eutaw Place\, Baltimore\, 21217\, United States
CATEGORIES:Arts & Culture Partners,Arts Advocacy,Arts Education,Baltimore City Public Schools
ATTACH;FMTTYPE=image/jpeg:https://artseveryday.org/wp-content/uploads/ACP_2025_Fall.jpg
ORGANIZER;CN="Arts Every Day":MAILTO:info@artseveryday.org
END:VEVENT
BEGIN:VEVENT
DTSTART;TZID=UTC:20251027T160000
DTEND;TZID=UTC:20251027T164500
DTSTAMP:20260425T013233
CREATED:20251003T154951Z
LAST-MODIFIED:20251009T161310Z
UID:117408-1761580800-1761583500@artseveryday.org
SUMMARY:Turning Your Winter Visual & Performing Arts Showcases Into Advocacy Opportunities
DESCRIPTION:Join us for the first session in our virtual arts advocacy series! Just in time to start planning for winter events\, “Turning Your Winter Visual and Performing Arts Showcases Into Advocacy Opportunities\,” will be presented in partnership with Rachel McGrain\, Executive Director of Arts Education in Maryland Schools\, on October 27th from 4-4:45pm. In this session\, we will explore AEMS’ “Showtime Advocacy for Arts Educators” toolkit and participants will have time to collaboratively envision and troubleshoot how this toolkit can best be applied by educators in Baltimore City Public Schools.
URL:https://artseveryday.org/event/turning-you-winter-visual-performing-arts-showcases-into-advocacy-opportunities/
LOCATION:Zoom
CATEGORIES:Arts Advocacy,Arts Education,Baltimore City Public Schools,Teacher Professional Development
ATTACH;FMTTYPE=image/jpeg:https://artseveryday.org/wp-content/uploads/2026-PD-Graphic.jpg
ORGANIZER;CN="Arts Every Day":MAILTO:info@artseveryday.org
END:VEVENT
BEGIN:VEVENT
DTSTART;TZID=UTC:20251009T180000
DTEND;TZID=UTC:20251009T193000
DTSTAMP:20260425T013233
CREATED:20251003T155639Z
LAST-MODIFIED:20251003T155639Z
UID:117412-1760032800-1760038200@artseveryday.org
SUMMARY:Parent-Led Open Forum on Arts Education
DESCRIPTION:Your voice matters—help shape the future of arts education in Baltimore.\nWe’re excited to invite you to the first parent-led open forum on the future of arts education in Baltimore City Public Schools. \n Date: Thursday\, Oct. 9\, 2025\n Time: 6:00 – 7:30 PM (doors open at 5:30)\n Location: Unity Hall\, 1505 Eutaw Pl\, Baltimore\, MD 21217\nLivestream: Facebook Live @BmoreArtsEd\nHosted by: Baltimore Advocates for Arts Education (BA4AE)—a collective of parents\, caregivers\, and community members working to ensure every child has access to high-quality\, equitable arts education. \n**Onsite childcare\, pizza & drinks\, and a pre-event meet & greet** \nThe open forum will center parent voices\, highlight disparities and bright spots across schools\, and build momentum toward stronger\, more equitable arts opportunities for all City Schools students. \nTogether\, we aim to: \n\nEstablish School-Based Arts Liaisons to help track and support arts education at the ground level\nIncrease Public Understanding of the current state of arts education in City Schools\nExpand Advocacy Readiness\, equipping more families and community members to take action\nElevate Parent and Community Voice in: – The selection of the next CEO of Baltimore City Public Schools – The push for policy that supports arts access equity and full implementation of the district’s Fine Arts Strategic Plan
URL:https://artseveryday.org/event/parent-led-open-forum-on-arts-education/
LOCATION:Baltimore Unity Hall\, 1505 Eutaw Place\, Baltimore\, 21217\, United States
CATEGORIES:Arts Advocacy,Arts Education,Baltimore City Public Schools,Public Forum
ATTACH;FMTTYPE=image/jpeg:https://artseveryday.org/wp-content/uploads/PARENT-LED.jpg
ORGANIZER;CN="Arts Every Day":MAILTO:info@artseveryday.org
END:VEVENT
BEGIN:VEVENT
DTSTART;TZID=UTC:20250111T100000
DTEND;TZID=UTC:20250111T140000
DTSTAMP:20260425T013233
CREATED:20240927T192753Z
LAST-MODIFIED:20240927T192925Z
UID:115672-1736589600-1736604000@artseveryday.org
SUMMARY:Early Career Arts Teachers Fellowship- Session 3
DESCRIPTION:Session 3 Topics:\n– Student Learning Outcomes\, Assessment\, and Adjudications\n– Advocating for your Needs \nWe are thrilled to open up the fellowship to early career arts teachers across all disciplines! In partnership with the Office of Fine Arts and Arts for Learning Maryland\, teachers in their 1st through 3rd years of teaching are encouraged to join us for 4 Saturday sessions designed to support your teaching practices and connect you to peer and mentor arts teachers. Childcare\, coffee and lunch will be provided at each session. Due to grant restrictions\, stipends are available to music teachers only. \nEligibility: \n– Must be a certified or conditionally certified teacher in your 1st through 3rd year of teaching at Baltimore City Public School\n– Attend all in-person meetings\n– Communicate with your mentor on a consistent basis\n– Bring a growth mindset and a willingness to connect and build community \nParticipating teachers receive: \n$600 stipend for Music teachers only (payable in 4\, $150 increments following each session)\nQuarterly Saturday sessions focused on building skill and pedagogy\nVirtual check-ins/office hours\nClassroom observation\nMentorship\nPriority consideration for the Arts Every Day Equipment Fund: funding for music equipment/instrument requests of up to $5\,000\nPriority consideration for the Arts for Learning Funding: funding to subsidize teaching artist residencies\, assemblies\, professional development
URL:https://artseveryday.org/event/early-career-arts-teachers-fellowship-session-3/
LOCATION:Baltimore Unity Hall\, 1505 Eutaw Place\, Baltimore\, 21217\, United States
CATEGORIES:Arts Advocacy,Arts Education,Arts Integration,Baltimore City Public Schools,Teacher Professional Development
ATTACH;FMTTYPE=image/jpeg:https://artseveryday.org/wp-content/uploads/457351436_18453421063056051_3967456387436801483_n.jpg
END:VEVENT
BEGIN:VEVENT
DTSTART;TZID=UTC:20241212T180000
DTEND;TZID=UTC:20241212T190000
DTSTAMP:20260425T013233
CREATED:20241126T155545Z
LAST-MODIFIED:20241126T155645Z
UID:116145-1734026400-1734030000@artseveryday.org
SUMMARY:Arts Experiences Fund Info Session for Schools (Dec 12 @ 6pm)
DESCRIPTION:Join this virtual info session to learn more about Arts Every Day’s Arts Experience Fund! This grant allows schools to apply for up to $2\,500 worth of school-day arts experiences for students booked through Arts Every Day’s Arts Directory. \nThe second grant window for SY24/25 will open on January 15th. While applicants are not required to attend a virtual info session before applying\, it is strongly encouraged!
URL:https://artseveryday.org/event/arts-experiences-fund-info-session-for-schools-dec-12-6pm-copy/
LOCATION:Zoom
CATEGORIES:Arts & Culture Partners,Arts Advocacy,Arts Education,Arts Integration,Baltimore City Public Schools,Teacher Professional Development
ATTACH;FMTTYPE=image/jpeg:https://artseveryday.org/wp-content/uploads/IMG_7282.jpeg
ORGANIZER;CN="Arts Every Day":MAILTO:info@artseveryday.org
END:VEVENT
BEGIN:VEVENT
DTSTART;TZID=UTC:20241211T170000
DTEND;TZID=UTC:20241211T180000
DTSTAMP:20260425T013233
CREATED:20241126T155040Z
LAST-MODIFIED:20241126T155718Z
UID:116137-1733936400-1733940000@artseveryday.org
SUMMARY:Arts Experiences Fund Info Session for Schools (Dec 11 @ 5pm)
DESCRIPTION:Join this virtual info session to learn more about Arts Every Day’s Arts Experience Fund! This grant allows schools to apply for up to $2\,500 worth of school-day arts experiences for students booked through Arts Every Day’s Arts Directory. \nThe second grant window for SY24/25 will open on January 15th. While applicants are not required to attend a virtual info session before applying\, it is strongly encouraged!
URL:https://artseveryday.org/event/arts-experiences-fund-info-session-for-schools-dec-12-6pm/
LOCATION:Zoom
CATEGORIES:Arts & Culture Partners,Arts Advocacy,Arts Education,Arts Integration,Baltimore City Public Schools,Teacher Professional Development
ATTACH;FMTTYPE=image/jpeg:https://artseveryday.org/wp-content/uploads/IMG_7282.jpeg
ORGANIZER;CN="Arts Every Day":MAILTO:info@artseveryday.org
END:VEVENT
BEGIN:VEVENT
DTSTART;TZID=UTC:20241119T180000
DTEND;TZID=UTC:20241119T193000
DTSTAMP:20260425T013233
CREATED:20241106T154108Z
LAST-MODIFIED:20241106T154108Z
UID:116091-1732039200-1732044600@artseveryday.org
SUMMARY:Arts Education Town Hall
DESCRIPTION:Join Arts Every Day as we host the annual Arts Education Town Hall with City Schools CEO Dr. Santelises on Tuesday\, November 19th at 6pm at Baltimore Unity Hall.
URL:https://artseveryday.org/event/arts-education-town-hall-2/
LOCATION:Baltimore Unity Hall\, 1505 Eutaw Place\, Baltimore\, 21217\, United States
CATEGORIES:Arts Advocacy,Arts Education,Baltimore City Public Schools,Public Forum
ATTACH;FMTTYPE=image/jpeg:https://artseveryday.org/wp-content/uploads/Town-Hall_toolkit_2024.jpg
ORGANIZER;CN="Arts Every Day":MAILTO:info@artseveryday.org
END:VEVENT
BEGIN:VEVENT
DTSTART;TZID=UTC:20241116T100000
DTEND;TZID=UTC:20241116T140000
DTSTAMP:20260425T013233
CREATED:20240927T192539Z
LAST-MODIFIED:20240927T192539Z
UID:115669-1731751200-1731765600@artseveryday.org
SUMMARY:Early Career Arts Teachers Fellowship- Session 2
DESCRIPTION:Session 2 Topics:\n– Understanding the Difference Between Management & Discipline\n– Planning and Instruction/Curriculum Resources \nWe are thrilled to open up the fellowship to early career arts teachers across all disciplines! In partnership with the Office of Fine Arts and Arts for Learning Maryland\, teachers in their 1st through 3rd years of teaching are encouraged to join us for 4 Saturday sessions designed to support your teaching practices and connect you to peer and mentor arts teachers. Childcare\, coffee and lunch will be provided at each session. Due to grant restrictions\, stipends are available to music teachers only. \nEligibility: \n– Must be a certified or conditionally certified teacher in your 1st through 3rd year of teaching at Baltimore City Public School\n– Attend all in-person meetings\n– Communicate with your mentor on a consistent basis\n– Bring a growth mindset and a willingness to connect and build community \nParticipating teachers receive: \n$600 stipend for Music teachers only (payable in 4\, $150 increments following each session)\nQuarterly Saturday sessions focused on building skill and pedagogy\nVirtual check-ins/office hours\nClassroom observation\nMentorship\nPriority consideration for the Arts Every Day Equipment Fund: funding for music equipment/instrument requests of up to $5\,000\nPriority consideration for the Arts for Learning Funding: funding to subsidize teaching artist residencies\, assemblies\, professional development
URL:https://artseveryday.org/event/early-career-arts-teachers-fellowship-session-2/
LOCATION:Baltimore Unity Hall\, 1505 Eutaw Place\, Baltimore\, 21217\, United States
CATEGORIES:Arts Advocacy,Arts Education,Arts Integration,Baltimore City Public Schools,Teacher Professional Development
ATTACH;FMTTYPE=image/jpeg:https://artseveryday.org/wp-content/uploads/457351436_18453421063056051_3967456387436801483_n.jpg
ORGANIZER;CN="Arts Every Day":MAILTO:info@artseveryday.org
END:VEVENT
BEGIN:VEVENT
DTSTART;TZID=UTC:20240807T080000
DTEND;TZID=UTC:20240808T160000
DTSTAMP:20260425T013233
CREATED:20240621T153626Z
LAST-MODIFIED:20240621T153626Z
UID:12205-1723017600-1723132800@artseveryday.org
SUMMARY:2024 Summer Arts Integration Conference
DESCRIPTION:Arts Every Day is excited to announce our annual Summer Arts Integration Conference\, taking place August 7-8th at Baltimore Design School! This conference provides teachers in all content areas from Baltimore City and the surrounding regions with a multitude of engaging opportunities to learn about arts integration and how it can positively impact student learning. Attendees will be able to choose from a variety of concurrent sessions to attend following morning keynotes intended to kickstart and inspire each day of learning.
URL:https://artseveryday.org/event/2024-summer-arts-integration-conference/
LOCATION:Baltimore Design School\, 1500 Barclay St\, Baltimore\, Maryland\, 21202
CATEGORIES:Arts Advocacy,Arts Education,Arts Integration,Baltimore City Public Schools,Teacher Professional Development
ATTACH;FMTTYPE=image/jpeg:https://artseveryday.org/wp-content/uploads/435893517_18428262727056051_5161366704854850933_n.jpg
ORGANIZER;CN="Arts Every Day":MAILTO:info@artseveryday.org
END:VEVENT
BEGIN:VEVENT
DTSTART;TZID=UTC:20240717T160000
DTEND;TZID=UTC:20240717T170000
DTSTAMP:20260425T013233
CREATED:20240621T153359Z
LAST-MODIFIED:20240621T153359Z
UID:12203-1721232000-1721235600@artseveryday.org
SUMMARY:Arts & Culture Partner Info Session- July 17
DESCRIPTION:
URL:https://artseveryday.org/event/arts-culture-partner-info-session-july-17/
LOCATION:Zoom
CATEGORIES:Arts Advocacy,Arts Education,Arts Integration,Baltimore City Public Schools,Teacher Professional Development
ATTACH;FMTTYPE=image/jpeg:https://artseveryday.org/wp-content/uploads/ACP_Info_Session.jpg
ORGANIZER;CN="Arts Every Day":MAILTO:info@artseveryday.org
END:VEVENT
BEGIN:VEVENT
DTSTART;TZID=UTC:20240716T100000
DTEND;TZID=UTC:20240716T110000
DTSTAMP:20260425T013233
CREATED:20240621T153119Z
LAST-MODIFIED:20240621T153239Z
UID:12201-1721124000-1721127600@artseveryday.org
SUMMARY:Arts & Culture Partner Info Session
DESCRIPTION:Current and prospective Arts Every Day Arts & Culture Partners!  Join us on July 16 for an info session to discuss a number of opportunities and topics related to our partnership for School Year 24-25. We are making several changes to our Schools Partnerships and will be updating our Arts Directory over the summer. We’ll also touch on the arts access survey that looks at data surrounding partner reach within BCPSS schools.
URL:https://artseveryday.org/event/arts-culture-partner-info-session/
CATEGORIES:Arts Advocacy,Arts Education,Arts Integration,Baltimore City Public Schools,Teacher Professional Development
ATTACH;FMTTYPE=image/jpeg:https://artseveryday.org/wp-content/uploads/ACP_Info_Session.jpg
ORGANIZER;CN="Arts Every Day":MAILTO:info@artseveryday.org
END:VEVENT
BEGIN:VEVENT
DTSTART;TZID=UTC:20240611T080000
DTEND;TZID=UTC:20240611T170000
DTSTAMP:20260425T013233
CREATED:20240611T154449Z
LAST-MODIFIED:20240611T154449Z
UID:12186-1718092800-1718125200@artseveryday.org
SUMMARY:Arts Integration Summer Conference
DESCRIPTION:This year’s Summer Arts Integration Conference will be held on August 7-8th at Baltimore Design School! AED’s annual summer conference provides teachers in all content areas from Baltimore City and the surrounding regions with many engaging opportunities to learn about arts integration and how it can positively impact student learning. \nConference attendance can be counted towards Professional Development Points (PDP) upon completion of proper paperwork and approval by school-based supervisors.
URL:https://artseveryday.org/event/arts-integration-summer-conference/
LOCATION:Baltimore Design School\, 1500 Barclay St\, Baltimore\, Maryland\, 21202
CATEGORIES:Arts Advocacy,Arts Education,Arts Integration,Baltimore City Public Schools,Teacher Professional Development
ATTACH;FMTTYPE=image/jpeg:https://artseveryday.org/wp-content/uploads/435893517_18428262727056051_5161366704854850933_n.jpg
ORGANIZER;CN="Arts Every Day":MAILTO:info@artseveryday.org
END:VEVENT
BEGIN:VEVENT
DTSTART;TZID=UTC:20231213T180000
DTEND;TZID=UTC:20231213T193000
DTSTAMP:20260425T013233
CREATED:20231109T200234Z
LAST-MODIFIED:20231109T200315Z
UID:11317-1702490400-1702495800@artseveryday.org
SUMMARY:Arts Education Town Hall
DESCRIPTION:Educators\, Parents\, Students\, and Community Members! Please join us for a Virtual Town Hall event focused on arts education in Baltimore City Public Schools. Learn about Baltimore City’s Fine Arts Strategic Plan\, and what access to arts education looks like across the district.
URL:https://artseveryday.org/event/arts-education-town-hall/
LOCATION:Baltimore Unity Hall\, 1505 Eutaw Place\, Baltimore\, 21217\, United States
CATEGORIES:Arts Advocacy,Arts Education,Baltimore City Public Schools,Public Forum
ATTACH;FMTTYPE=image/jpeg:https://artseveryday.org/wp-content/uploads/Town-Hall-2023_graphic_1.jpg
ORGANIZER;CN="Arts Every Day":MAILTO:info@artseveryday.org
END:VEVENT
BEGIN:VEVENT
DTSTART;TZID=UTC:20231102T180000
DTEND;TZID=UTC:20231102T193000
DTSTAMP:20260425T013233
CREATED:20231020T183648Z
LAST-MODIFIED:20231020T183731Z
UID:11283-1698948000-1698953400@artseveryday.org
SUMMARY:Parents Arts Education Action Council Meeting
DESCRIPTION:Did you know that budgeting for next school year has already begun for Baltimore City Public Schools? \nParents\, Teachers\, Students\, Community Members\, please join us Thursday\, November 2nd at Baltimore Unity Hall for the first Parent Arts Education Action Meeting! This interactive session will cover the basics of advocating for the arts at your school during the budget process. \nDinner and childcare will be provided!
URL:https://artseveryday.org/event/parents-arts-education-action-council-meeting/
LOCATION:Baltimore Unity Hall\, 1505 Eutaw Place\, Baltimore\, 21217\, United States
CATEGORIES:Arts Advocacy,Arts Education,Baltimore City Public Schools
ATTACH;FMTTYPE=image/jpeg:https://artseveryday.org/wp-content/uploads/PAEAC_member_social.jpg
ORGANIZER;CN="Arts Every Day":MAILTO:info@artseveryday.org
END:VEVENT
BEGIN:VEVENT
DTSTART;TZID=UTC:20221207T170000
DTEND;TZID=UTC:20221207T190000
DTSTAMP:20260425T013233
CREATED:20220929T193133Z
LAST-MODIFIED:20220929T193148Z
UID:9644-1670432400-1670439600@artseveryday.org
SUMMARY:Arts Education Town Hall with City Schools Dr. Santelises
DESCRIPTION:Join Arts Every Day as we host the annual Arts Education Town Hall with City Schools CEO Dr. Santelises on Wednesday\, November 16th at 5pm at Baltimore Unity Hall.
URL:https://artseveryday.org/event/arts-education-town-hall-with-city-schools-dr-santelises/
LOCATION:Baltimore Unity Hall\, 1505 Eutaw Place\, Baltimore\, 21217\, United States
CATEGORIES:Arts Advocacy,Arts Education,Baltimore City Public Schools,Public Forum
ATTACH;FMTTYPE=image/jpeg:https://artseveryday.org/wp-content/uploads/Town-Hall-2022_event.jpg
ORGANIZER;CN="Arts Every Day":MAILTO:info@artseveryday.org
END:VEVENT
BEGIN:VEVENT
DTSTART;TZID=UTC:20221011T170000
DTEND;TZID=UTC:20221011T190000
DTSTAMP:20260425T013233
CREATED:20220929T191705Z
LAST-MODIFIED:20220929T191705Z
UID:9636-1665507600-1665514800@artseveryday.org
SUMMARY:Baltimore City Public Schools Board of Commissioners Candidate Forum
DESCRIPTION:Arts Every Day is joining forces with our partner\, No Boundaries Coalition\, to expand our Board of School Commissioners Candidate Forum to include a voter education workshop. The November 8th General Election is approaching quickly and this event can help you know-before-you-go to the ballot box. \nJoin us for dinner and an expanded event schedule: \nOctober 11\, 5-8PM at Baltimore Unity Hall\n5-6 PM: Board of School Commissioners Candidate Forum \n\nHosted by Kadijah Hart and Ysem Brown\n\n\nPanel Moderator\, Kenneth Morrison\, Black Arts District\n\n6-6:30 PM: Dinner \n6:30-8PM: No Boundaries Coalition Voter Education Workshop \n\nVoter Eligibility & Laws\n\n\nSample Ballot Questions\n\n\nBlack Girls Vote & League of Women Voters\n\nVoter registration table will be open throughout the event! \n  \nAbout the Board of School Commissioners Election\nFor the first time in Baltimore City’s history\, voters will elect 2 Commissioners to the Baltimore City Public School Board expanding from 10 to 12 seats\, with the two additional seats being elected rather than appointed. Candidates include: Ashley Esposito\, April Christina Curley\, Kwame Kenyatta-Bey\, and Salimah Jasani. \nNeed a refresh on where the candidates stand on arts education? Read the answers to our questionnaire below. https://artseveryday.org/update-on-board-of-school-commissioners-4-candidates-move-on-to-general-elections
URL:https://artseveryday.org/event/baltimore-city-public-schools-board-of-commissioners-candidate-forum/
LOCATION:Baltimore Unity Hall\, 1505 Eutaw Place\, Baltimore\, 21217\, United States
CATEGORIES:Arts Advocacy,Arts Education,Baltimore City Public Schools,Public Forum
ATTACH;FMTTYPE=image/jpeg:https://artseveryday.org/wp-content/uploads/Forum-2022-eblast.jpg
ORGANIZER;CN="Arts Every Day":MAILTO:info@artseveryday.org
END:VEVENT
END:VCALENDAR